BEGIN:VCALENDAR
VERSION:2.0
PRODID:-//Temple Beth Sholom Staging Site - ECPv6.2.3//NONSGML v1.0//EN
CALSCALE:GREGORIAN
METHOD:PUBLISH
X-ORIGINAL-URL:https://tbs80th.com
X-WR-CALDESC:Events for Temple Beth Sholom Staging Site
REFRESH-INTERVAL;VALUE=DURATION:PT1H
X-Robots-Tag:noindex
X-PUBLISHED-TTL:PT1H
BEGIN:VTIMEZONE
TZID:America/New_York
BEGIN:DAYLIGHT
TZOFFSETFROM:-0500
TZOFFSETTO:-0400
TZNAME:EDT
DTSTART:20230312T070000
END:DAYLIGHT
BEGIN:STANDARD
TZOFFSETFROM:-0400
TZOFFSETTO:-0500
TZNAME:EST
DTSTART:20231105T060000
END:STANDARD
END:VTIMEZONE
BEGIN:VEVENT
DTSTART;TZID=America/New_York:20231103T180000
DTEND;TZID=America/New_York:20231103T180000
DTSTAMP:20260426T013824
CREATED:20230805T220202Z
LAST-MODIFIED:20230809T182216Z
UID:10000088-1699034400-1699034400@tbs80th.com
SUMMARY:Shabbat Evening Service
DESCRIPTION:
URL:https://tbs80th.com/event/shabbat-evening-service-16/
CATEGORIES:Mitzvah,Shabbat Evening
ORGANIZER;CN="Temple Beth Sholom":MAILTO:tbs@tbsmb.org
END:VEVENT
END:VCALENDAR